BEGIN:VCALENDAR
VERSION:2.0
PRODID:-//Hutton Tactical Arms &amp; Ammo, LLC - ECPv6.15.20//NONSGML v1.0//EN
CALSCALE:GREGORIAN
METHOD:PUBLISH
X-ORIGINAL-URL:https://huttontacticalarms.com
X-WR-CALDESC:Events for Hutton Tactical Arms &amp; Ammo, LLC
REFRESH-INTERVAL;VALUE=DURATION:PT1H
X-Robots-Tag:noindex
X-PUBLISHED-TTL:PT1H
BEGIN:VTIMEZONE
TZID:UTC
BEGIN:STANDARD
TZOFFSETFROM:+0000
TZOFFSETTO:+0000
TZNAME:UTC
DTSTART:20240101T000000
END:STANDARD
END:VTIMEZONE
BEGIN:VEVENT
DTSTART;TZID=UTC:20251122T090000
DTEND;TZID=UTC:20251122T170000
DTSTAMP:20260421T074147
CREATED:20250805T221140Z
LAST-MODIFIED:20250805T221140Z
UID:3487-1763802000-1763830800@huttontacticalarms.com
SUMMARY:THE NATIONS GUN SHOW SATURDAY NOVEMBER 22 2025
DESCRIPTION:KNOWLEDGE\n\nOur exhibitors have an incredible knowledge base and can help customers find what they want. Our exhibitors can easily answer virtually all questions and concerns a consumer may have. That level of variety and knowledge is nearly impossible to find anywhere. \nDIVERSITY\nHandguns\, Shotguns\, Rifles\, Ammunition\, Training\, Holsters\, Safes\, Antiques\, Carbines\, Antique Pistols\, Swords\, Knives\, Samurai Swords\, Cartridges\, Early Indian & Western Americana\, Militaria of All Wars\, and Coins. Our expertise benefits each engagement. \n \n  \nDO NOT BRING LOADED \nGUNS ​INTO THE BUILDING \nMaryland & Washington D.C \nFederal Firearms Dealers \navailable to do Maryland Transfers! \n  \nLOCATION:\nDulles Expo Center\n4320 Chantilly Shopping Center\nChantilly\, VA 20153​​ \n​​HOURS: \nFriday:  1:00 PM – 8:00 PM  NEW!\nSaturday:  9:00 AM – 5:00 PM\nSunday:  10:00 AM – 5:00 PM \n\n\n  \nProudly Sponsored By \n\n\n\n\n\n\n\n​​​​​​​​​2025 Annual Passes​​ \nNOW ON SALE! \nActs as a 3-day pass for 2 shows! \nA yearly savings of $10 on Admission price! \n​$40.00​ \nSeptember 26\, 27 & 28\, 2025 \nNovember 21\, 22 & 23\, 2025 \n​ \nCALL 540.951.1344 or 540.951.2344 to order \nor purchase at the show! \n​ \nX
URL:https://huttontacticalarms.com/event/the-nations-gun-show-saturday-november-22-2025/
LOCATION:Dulles Expo Center\, 4320 Chantilly Shopping Center\, Chantilly\, MD\, 20153\, United States
CATEGORIES:Gun Shows
ATTACH;FMTTYPE=image/jpeg:https://huttontacticalarms.com/wp-content/uploads/2023/10/fe252fd9433d2361288bd5f1faa7abbd.jpg
END:VEVENT
END:VCALENDAR