BEGIN:VCALENDAR
VERSION:2.0
PRODID:-//Hutton Tactical Arms &amp; Ammo, LLC - ECPv6.15.20//NONSGML v1.0//EN
CALSCALE:GREGORIAN
METHOD:PUBLISH
X-WR-CALNAME:Hutton Tactical Arms &amp; Ammo, LLC
X-ORIGINAL-URL:https://huttontacticalarms.com
X-WR-CALDESC:Events for Hutton Tactical Arms &amp; Ammo, LLC
REFRESH-INTERVAL;VALUE=DURATION:PT1H
X-Robots-Tag:noindex
X-PUBLISHED-TTL:PT1H
BEGIN:VTIMEZONE
TZID:UTC
BEGIN:STANDARD
TZOFFSETFROM:+0000
TZOFFSETTO:+0000
TZNAME:UTC
DTSTART:20230101T000000
END:STANDARD
END:VTIMEZONE
BEGIN:VEVENT
DTSTART;TZID=UTC:20240202T130000
DTEND;TZID=UTC:20240202T200000
DTSTAMP:20260424T122941
CREATED:20240110T014833Z
LAST-MODIFIED:20240110T020603Z
UID:3316-1706878800-1706904000@huttontacticalarms.com
SUMMARY:THE NATION'S GUN SHOW
DESCRIPTION:KNOWLEDGE\n\n\nOur exhibitors have an incredible knowledge base and can help customers find what they’re looking for. Our exhibitors can easily answer virtually all questions and concerns a consumer may have. That level of variety and knowledge is nearly impossible to find anywhere. \nDIVERSITY\nHandguns\, Shotguns\, Rifles\, Ammo\, Training\, Holsters\, Safes\, Antiques\, Carbines\, Antique Pistols\, Swords\, Knives\, Samurai Swords\, Cartridges\, Early Indian & Western Americana\, Militaria of All Wars\, Coins. Each engagement benefits from the depth and breadth of our expertise. \n \n  \nDO NOT BRING LOADED \nGUNS ​INTO THE BUILDING \nMaryland & Washington D.C \nFederal Firearms Dealers \navailable to do Maryland Transfers! \n\n\n  \nProudly Sponsored By \n\n\n\n\n\n\n\n2024 Annual Passes​ \nActs as a 3-day pass for 7 shows! \n​\n \nA yearly savings of $50 on admission price! \n$130.00 \n​February 2\, 3 & 4\, 2024
URL:https://huttontacticalarms.com/event/the-nations-gun-show-feb-2nd/
LOCATION:Dulles Expo Center\, 4320 Chantilly Shopping Center\, Chantilly\, MD\, 20153\, United States
CATEGORIES:Gun Shows
ATTACH;FMTTYPE=image/jpeg:https://huttontacticalarms.com/wp-content/uploads/2023/10/fe252fd9433d2361288bd5f1faa7abbd.jpg
END:VEVENT
END:VCALENDAR