BEGIN:VCALENDAR
VERSION:2.0
PRODID:-//Hutton Tactical Arms &amp; Ammo, LLC - ECPv6.15.20//NONSGML v1.0//EN
CALSCALE:GREGORIAN
METHOD:PUBLISH
X-WR-CALNAME:Hutton Tactical Arms &amp; Ammo, LLC
X-ORIGINAL-URL:https://huttontacticalarms.com
X-WR-CALDESC:Events for Hutton Tactical Arms &amp; Ammo, LLC
REFRESH-INTERVAL;VALUE=DURATION:PT1H
X-Robots-Tag:noindex
X-PUBLISHED-TTL:PT1H
BEGIN:VTIMEZONE
TZID:UTC
BEGIN:STANDARD
TZOFFSETFROM:+0000
TZOFFSETTO:+0000
TZNAME:UTC
DTSTART:20220101T000000
END:STANDARD
END:VTIMEZONE
BEGIN:VEVENT
DTSTART;TZID=UTC:20231119T090000
DTEND;TZID=UTC:20231119T160000
DTSTAMP:20260424T185453
CREATED:20231003T163603Z
LAST-MODIFIED:20231004T151410Z
UID:3297-1700384400-1700409600@huttontacticalarms.com
SUMMARY:Nation's Gun Show Nov 19th
DESCRIPTION:KNOWLEDGE \nOur exhibitors have an incredible knowledge base and are able to help customers find what they’re looking for. Our exhibitors can easily answer virtually all questions and concerns a consumer may have. That level of variety and knowledge is nearly impossible to find anywhere. \nDIVERSITY \nHandguns\, Shotguns\, Rifles\, Ammo\, Training\, Holsters\, Safes\, Antiques\, Carbines\, Antique Pistols\, Swords\, Knives\, Samurai Swords\, Cartridges\, Early Indian & Western Americana\, Militaria of All Wars\, Coins. Each engagement benefits from the depth and breadth of our expertise. \n\n\n\n\n\n\n\n\n\n\nProudly Sponsored By \n\n\n\n\n\n\n\n\n\n\n\n\n \n\n\n\n\n\n\nCelebrity Hangout\n\n\n\n\n​​​​​Meet Crispy Avila  \n​Sgt. Omar Avila  \nof \nBlack Rifle \nCoffee Company \nNovember 17\, 18 & 19 \nBooth 14\, B​ \nEC Defense Booth \n\n\n\n\nFirearm Purchase Requirements \n\n\n\n\nJoin the NRA Today! \n\n\n\n\n\n\n\n\n\nHandguns\, Shotguns\, Rifles\, Ammo\, Training\, Holsters\, Safes\, Antiques\, Carbines\, Antique Pistols\, Swords\, Knives\, Samurai Swords\, Cartridges\, Early Indian & Western Americana\, Militaria of All Wars\, Coins. Each engagement benefits from the depth and breadth of our expertise. \n\n\n\n\nOur exhibitors have an incredible knowledge base and are able to help customers find what they’re looking for. Our exhibitors can easily answer virtually all questions and concerns a consumer may have. That level of variety and knowledge is nearly impossible to find anywhere. \n\n\n\n\n\n\n\n\n\n\n\n\n\n\n\n\n\n\n\n\nDO NOT BRING LOADED GUNS ​INTO THE BUILDING \n\n\n\n\n\n\n\n\n\n\n\n\n\n\n\n\n\n2023 SHOW DATES​​​ \n\n\nNovember 17\, 18 & 19\, 2023 \n​December 29\, 30 & 31\, 2023
URL:https://huttontacticalarms.com/event/nations-gun-show-nov-19th/
LOCATION:Dulles Expo Center\, 4320 Chantilly Shopping Center\, Chantilly\, MD\, 20153\, United States
CATEGORIES:Gun Shows
ATTACH;FMTTYPE=image/jpeg:https://huttontacticalarms.com/wp-content/uploads/2023/10/fe252fd9433d2361288bd5f1faa7abbd.jpg
END:VEVENT
BEGIN:VEVENT
DTSTART;TZID=UTC:20231119T100000
DTEND;TZID=UTC:20231119T170000
DTSTAMP:20260424T185453
CREATED:20230513T200357Z
LAST-MODIFIED:20230513T200357Z
UID:3011-1700388000-1700413200@huttontacticalarms.com
SUMMARY:The Nation's Gun Show November 19th
DESCRIPTION:Knowledge \nOur exhibitors have an incredible knowledge base and are able to help customers find what they’re looking for. Our exhibitors can easily answer virtually all questions and concern a consumer may have. That level of variety and knowledge is nearly impossible to find anywhere. \nDiversity \nHandguns\, Shotguns\, Rifles\, Ammo\, Training\, Holsters\, Safes\, Antiques\, Carbines\, Antique Pistols\, Swords\, Knives\, Samurai Swords\, Cartridges\, Early Indian & Western Americana\, Militaria of All Wars\, and Coins. Each engagement benefits from the depth and breadth of our expertise. \n2023 Annual Passes \nActs as a 3-day pass for 4 shows \nA yearly savings of $20 on admission price! \n$80.00
URL:https://huttontacticalarms.com/event/the-nations-gun-show-november-19th/
LOCATION:Dulles Expo Center\, 4320 Chantilly Shopping Center\, Chantilly\, MD\, 20153\, United States
CATEGORIES:Gun Shows
ATTACH;FMTTYPE=image/jpeg:https://huttontacticalarms.com/wp-content/uploads/2023/05/gun-show-events-copy.jpg
END:VEVENT
END:VCALENDAR