BEGIN:VCALENDAR
VERSION:2.0
PRODID:-//Hutton Tactical Arms &amp; Ammo, LLC - ECPv6.15.20//NONSGML v1.0//EN
CALSCALE:GREGORIAN
METHOD:PUBLISH
X-WR-CALNAME:Hutton Tactical Arms &amp; Ammo, LLC
X-ORIGINAL-URL:https://huttontacticalarms.com
X-WR-CALDESC:Events for Hutton Tactical Arms &amp; Ammo, LLC
REFRESH-INTERVAL;VALUE=DURATION:PT1H
X-Robots-Tag:noindex
X-PUBLISHED-TTL:PT1H
BEGIN:VTIMEZONE
TZID:UTC
BEGIN:STANDARD
TZOFFSETFROM:+0000
TZOFFSETTO:+0000
TZNAME:UTC
DTSTART:20220101T000000
END:STANDARD
END:VTIMEZONE
BEGIN:VEVENT
DTSTART;TZID=UTC:20231111T090000
DTEND;TZID=UTC:20231111T170000
DTSTAMP:20260424T154412
CREATED:20231003T161741Z
LAST-MODIFIED:20231003T161741Z
UID:3280-1699693200-1699722000@huttontacticalarms.com
SUMMARY:Morgantown Gun Show Nov 11th
DESCRIPTION:300 Tables \nGeneral Admission: $9.00 \nChildren under 12: Free​ \nCASH OR CREDIT CARD at the door\nFREE PARKING
URL:https://huttontacticalarms.com/event/morgantown-gun-show-nov-11-th/
LOCATION:Ruby Community Center Mylan Park\, 500 Mylan Park Lane\, Morgantown\, WV\, 26501\, United States
CATEGORIES:Gun Shows
ATTACH;FMTTYPE=image/jpeg:https://huttontacticalarms.com/wp-content/uploads/2023/10/2021-02-25.jpg
END:VEVENT
BEGIN:VEVENT
DTSTART;TZID=UTC:20231111T090000
DTEND;TZID=UTC:20231111T170000
DTSTAMP:20260424T154412
CREATED:20231003T162637Z
LAST-MODIFIED:20231003T162821Z
UID:3286-1699693200-1699722000@huttontacticalarms.com
SUMMARY:Richmond Gun Show Nov 11th
DESCRIPTION:800 Tables\nGeneral Admission: $13.00\nChildren 12 to 17 years of age:  $7.00\nChildren under 12 years old: FREE\nwith Supervising Adult \nCASH OR CREDIT CARD ONLY at the door\nFREE PARKING \nJoin the NRA at the show – get FREE admission and a discount on membership\, a hat and a magazine subscription \nConcealed Carry Class\nSATURDAY & SUNDAY \nVA CCW 1:00PM – 3PM       $80.00 per person \nUT CCW 1:00PM – 4:00PM       $120.00 per person \nUT & VA CCW 1:00PM – 4:00PM       $120.00 per person \n 
URL:https://huttontacticalarms.com/event/richmond-gun-show-nov-11th/
LOCATION:Richmond Raceway Complex\, 600 E. Laburnum Ave.\, Richmond\, VA\, 23222\, United States
CATEGORIES:Gun Shows
ATTACH;FMTTYPE=image/jpeg:https://huttontacticalarms.com/wp-content/uploads/2023/10/5e111cf8b756c.image_.jpg
END:VEVENT
BEGIN:VEVENT
DTSTART;TZID=UTC:20231112T090000
DTEND;TZID=UTC:20231112T160000
DTSTAMP:20260424T154412
CREATED:20231003T161925Z
LAST-MODIFIED:20231003T161925Z
UID:3284-1699779600-1699804800@huttontacticalarms.com
SUMMARY:Morgantown Gun Show Nov 12th
DESCRIPTION:300 Tables \nGeneral Admission: $9.00 \nChildren under 12: Free​ \nCASH OR CREDIT CARD at the door\nFREE PARKING
URL:https://huttontacticalarms.com/event/morgantown-gun-show-nov-12th/
LOCATION:Ruby Community Center Mylan Park\, 500 Mylan Park Lane\, Morgantown\, WV\, 26501\, United States
CATEGORIES:Gun Shows
ATTACH;FMTTYPE=image/jpeg:https://huttontacticalarms.com/wp-content/uploads/2023/10/2021-02-25.jpg
END:VEVENT
BEGIN:VEVENT
DTSTART;TZID=UTC:20231112T090000
DTEND;TZID=UTC:20231112T160000
DTSTAMP:20260424T154412
CREATED:20231003T162815Z
LAST-MODIFIED:20231003T162815Z
UID:3290-1699779600-1699804800@huttontacticalarms.com
SUMMARY:Richmond Gun Show Nov 12th
DESCRIPTION:800 Tables\nGeneral Admission: $13.00\nChildren 12 to 17 years of age:  $7.00\nChildren under 12 years old: FREE\nwith Supervising Adult \nCASH OR CREDIT CARD ONLY at the door\nFREE PARKING \nJoin the NRA at the show – get FREE admission and a discount on membership\, a hat and a magazine subscription \nConcealed Carry Class\nSATURDAY & SUNDAY \nVA CCW 1:00PM – 3PM       $80.00 per person \nUT CCW 1:00PM – 4:00PM       $120.00 per person \nUT & VA CCW 1:00PM – 4:00PM       $120.00 per person \n 
URL:https://huttontacticalarms.com/event/richmond-gun-show-nov-12th/
LOCATION:Richmond Raceway Complex\, 600 E. Laburnum Ave.\, Richmond\, VA\, 23222\, United States
CATEGORIES:Gun Shows
ATTACH;FMTTYPE=image/jpeg:https://huttontacticalarms.com/wp-content/uploads/2023/10/5e111cf8b756c.image_.jpg
END:VEVENT
BEGIN:VEVENT
DTSTART;TZID=UTC:20231117T150000
DTEND;TZID=UTC:20231117T200000
DTSTAMP:20260424T154412
CREATED:20230513T175749Z
LAST-MODIFIED:20230513T175749Z
UID:3006-1700233200-1700251200@huttontacticalarms.com
SUMMARY:The Nation's Gun Show November 17th
DESCRIPTION:Knowledge \nOur exhibitors have an incredible knowledge base and are able to help customers find what they’re looking for. Our exhibitors can easily answer virtually all questions and concern a consumer may have. That level of variety and knowledge is nearly impossible to find anywhere. \nDiversity \nHandguns\, Shotguns\, Rifles\, Ammo\, Training\, Holsters\, Safes\, Antiques\, Carbines\, Antique Pistols\, Swords\, Knives\, Samurai Swords\, Cartridges\, Early Indian & Western Americana\, Militaria of All Wars\, and Coins. Each engagement benefits from the depth and breadth of our expertise. \n2023 Annual Passes \nActs as a 3-day pass for 4 shows \nA yearly savings of $20 on admission price! \n$80.00
URL:https://huttontacticalarms.com/event/the-nations-gun-show-november-17th/
LOCATION:Dulles Expo Center\, 4320 Chantilly Shopping Center\, Chantilly\, MD\, 20153\, United States
CATEGORIES:Gun Shows
ATTACH;FMTTYPE=image/jpeg:https://huttontacticalarms.com/wp-content/uploads/2023/05/gun-show-events-copy.jpg
END:VEVENT
BEGIN:VEVENT
DTSTART;TZID=UTC:20231117T150000
DTEND;TZID=UTC:20231117T200000
DTSTAMP:20260424T154412
CREATED:20231003T163253Z
LAST-MODIFIED:20231004T151203Z
UID:3292-1700233200-1700251200@huttontacticalarms.com
SUMMARY:Nation's Gun Show Nov 17th
DESCRIPTION:KNOWLEDGE \nOur exhibitors have an incredible knowledge base and are able to help customers find what they’re looking for. Our exhibitors can easily answer virtually all questions and concerns a consumer may have. That level of variety and knowledge is nearly impossible to find anywhere. \nDIVERSITY \nHandguns\, Shotguns\, Rifles\, Ammo\, Training\, Holsters\, Safes\, Antiques\, Carbines\, Antique Pistols\, Swords\, Knives\, Samurai Swords\, Cartridges\, Early Indian & Western Americana\, Militaria of All Wars\, Coins. Each engagement benefits from the depth and breadth of our expertise. \n\n\n\n\n\n\n\n\n\n\nProudly Sponsored By \n\n\n\n\n\n\n\n\n\n\n\n\n \n\n\n\n\n\n\nCelebrity Hangout\n\n\n\n\n​​​​​Meet Crispy Avila  \n​Sgt. Omar Avila  \nof \nBlack Rifle \nCoffee Company \nNovember 17\, 18 & 19 \nBooth 14\, B​ \nEC Defense Booth \n\n\n\n\nFirearm Purchase Requirements \n\n\n\n\nJoin the NRA Today! \n\n\n\n\n\n\n\n\n\nHandguns\, Shotguns\, Rifles\, Ammo\, Training\, Holsters\, Safes\, Antiques\, Carbines\, Antique Pistols\, Swords\, Knives\, Samurai Swords\, Cartridges\, Early Indian & Western Americana\, Militaria of All Wars\, Coins. Each engagement benefits from the depth and breadth of our expertise. \n\n\n\n\nOur exhibitors have an incredible knowledge base and are able to help customers find what they’re looking for. Our exhibitors can easily answer virtually all questions and concerns a consumer may have. That level of variety and knowledge is nearly impossible to find anywhere. \n\n\n\n\n\n\n\n\n\n\n\n\n\n\n\n\n\n\n\n\nDO NOT BRING LOADED GUNS ​INTO THE BUILDING \n\n\n\n\n\n\n\n\n\n\n\n\n\n\n\n\n\n2023 SHOW DATES​​​ \n\n\n\n​November 17\, 18 & 19\, 2023 \n​December 29\, 30 & 31\, 2023
URL:https://huttontacticalarms.com/event/nations-gun-show-17th/
LOCATION:Dulles Expo Center\, 4320 Chantilly Shopping Center\, Chantilly\, MD\, 20153\, United States
CATEGORIES:Gun Shows
ATTACH;FMTTYPE=image/jpeg:https://huttontacticalarms.com/wp-content/uploads/2023/10/fe252fd9433d2361288bd5f1faa7abbd.jpg
END:VEVENT
BEGIN:VEVENT
DTSTART;TZID=UTC:20231118T090000
DTEND;TZID=UTC:20231118T170000
DTSTAMP:20260424T154412
CREATED:20230513T200118Z
LAST-MODIFIED:20230513T200118Z
UID:3009-1700298000-1700326800@huttontacticalarms.com
SUMMARY:The Nation's Gun Show November 18th
DESCRIPTION:Knowledge \nOur exhibitors have an incredible knowledge base and are able to help customers find what they’re looking for. Our exhibitors can easily answer virtually all questions and concern a consumer may have. That level of variety and knowledge is nearly impossible to find anywhere. \nDiversity \nHandguns\, Shotguns\, Rifles\, Ammo\, Training\, Holsters\, Safes\, Antiques\, Carbines\, Antique Pistols\, Swords\, Knives\, Samurai Swords\, Cartridges\, Early Indian & Western Americana\, Militaria of All Wars\, and Coins. Each engagement benefits from the depth and breadth of our expertise. \n2023 Annual Passes \nActs as a 3-day pass for 4 shows \nA yearly savings of $20 on admission price! \n$80.00
URL:https://huttontacticalarms.com/event/the-nations-gun-show-november-18th/
LOCATION:Dulles Expo Center\, 4320 Chantilly Shopping Center\, Chantilly\, MD\, 20153\, United States
CATEGORIES:Gun Shows
ATTACH;FMTTYPE=image/jpeg:https://huttontacticalarms.com/wp-content/uploads/2023/05/gun-show-events-copy.jpg
END:VEVENT
BEGIN:VEVENT
DTSTART;TZID=UTC:20231118T090000
DTEND;TZID=UTC:20231118T170000
DTSTAMP:20260424T154412
CREATED:20231003T163441Z
LAST-MODIFIED:20231004T151318Z
UID:3295-1700298000-1700326800@huttontacticalarms.com
SUMMARY:Nation's Gun Show Nov 18th
DESCRIPTION:KNOWLEDGE \nOur exhibitors have an incredible knowledge base and are able to help customers find what they’re looking for. Our exhibitors can easily answer virtually all questions and concerns a consumer may have. That level of variety and knowledge is nearly impossible to find anywhere. \nDIVERSITY \nHandguns\, Shotguns\, Rifles\, Ammo\, Training\, Holsters\, Safes\, Antiques\, Carbines\, Antique Pistols\, Swords\, Knives\, Samurai Swords\, Cartridges\, Early Indian & Western Americana\, Militaria of All Wars\, Coins. Each engagement benefits from the depth and breadth of our expertise. \n\n\n\n\n\n\n\n\n\n\nProudly Sponsored By \n\n\n\n\n\n\n\n\n\n\n\n\n \n\n\n\n\n\n\nCelebrity Hangout\n\n\n\n\n​​​​​Meet Crispy Avila  \n​Sgt. Omar Avila  \nof \nBlack Rifle \nCoffee Company \nNovember 17\, 18 & 19 \nBooth 14\, B​ \nEC Defense Booth \n\n\n\n\nFirearm Purchase Requirements \n\n\n\n\nJoin the NRA Today! \n\n\n\n\n\n\n\n\n\nHandguns\, Shotguns\, Rifles\, Ammo\, Training\, Holsters\, Safes\, Antiques\, Carbines\, Antique Pistols\, Swords\, Knives\, Samurai Swords\, Cartridges\, Early Indian & Western Americana\, Militaria of All Wars\, Coins. Each engagement benefits from the depth and breadth of our expertise. \n\n\n\n\nOur exhibitors have an incredible knowledge base and are able to help customers find what they’re looking for. Our exhibitors can easily answer virtually all questions and concerns a consumer may have. That level of variety and knowledge is nearly impossible to find anywhere. \n\n\n\n\n\n\n\n\n\n\n\n\n\n\n\n\n\n\n\n\nDO NOT BRING LOADED GUNS ​INTO THE BUILDING \n\n\n\n\n\n\n\n\n\n\n\n\n\n\n\n\n\n2023 SHOW DATES​​​ \n\n\n\n​November 17\, 18 & 19\, 2023 \n​December 29\, 30 & 31\, 2023
URL:https://huttontacticalarms.com/event/nations-gun-show-nov-18th/
LOCATION:Dulles Expo Center\, 4320 Chantilly Shopping Center\, Chantilly\, MD\, 20153\, United States
CATEGORIES:Gun Shows
ATTACH;FMTTYPE=image/jpeg:https://huttontacticalarms.com/wp-content/uploads/2023/10/fe252fd9433d2361288bd5f1faa7abbd.jpg
END:VEVENT
BEGIN:VEVENT
DTSTART;TZID=UTC:20231119T090000
DTEND;TZID=UTC:20231119T160000
DTSTAMP:20260424T154412
CREATED:20231003T163603Z
LAST-MODIFIED:20231004T151410Z
UID:3297-1700384400-1700409600@huttontacticalarms.com
SUMMARY:Nation's Gun Show Nov 19th
DESCRIPTION:KNOWLEDGE \nOur exhibitors have an incredible knowledge base and are able to help customers find what they’re looking for. Our exhibitors can easily answer virtually all questions and concerns a consumer may have. That level of variety and knowledge is nearly impossible to find anywhere. \nDIVERSITY \nHandguns\, Shotguns\, Rifles\, Ammo\, Training\, Holsters\, Safes\, Antiques\, Carbines\, Antique Pistols\, Swords\, Knives\, Samurai Swords\, Cartridges\, Early Indian & Western Americana\, Militaria of All Wars\, Coins. Each engagement benefits from the depth and breadth of our expertise. \n\n\n\n\n\n\n\n\n\n\nProudly Sponsored By \n\n\n\n\n\n\n\n\n\n\n\n\n \n\n\n\n\n\n\nCelebrity Hangout\n\n\n\n\n​​​​​Meet Crispy Avila  \n​Sgt. Omar Avila  \nof \nBlack Rifle \nCoffee Company \nNovember 17\, 18 & 19 \nBooth 14\, B​ \nEC Defense Booth \n\n\n\n\nFirearm Purchase Requirements \n\n\n\n\nJoin the NRA Today! \n\n\n\n\n\n\n\n\n\nHandguns\, Shotguns\, Rifles\, Ammo\, Training\, Holsters\, Safes\, Antiques\, Carbines\, Antique Pistols\, Swords\, Knives\, Samurai Swords\, Cartridges\, Early Indian & Western Americana\, Militaria of All Wars\, Coins. Each engagement benefits from the depth and breadth of our expertise. \n\n\n\n\nOur exhibitors have an incredible knowledge base and are able to help customers find what they’re looking for. Our exhibitors can easily answer virtually all questions and concerns a consumer may have. That level of variety and knowledge is nearly impossible to find anywhere. \n\n\n\n\n\n\n\n\n\n\n\n\n\n\n\n\n\n\n\n\nDO NOT BRING LOADED GUNS ​INTO THE BUILDING \n\n\n\n\n\n\n\n\n\n\n\n\n\n\n\n\n\n2023 SHOW DATES​​​ \n\n\nNovember 17\, 18 & 19\, 2023 \n​December 29\, 30 & 31\, 2023
URL:https://huttontacticalarms.com/event/nations-gun-show-nov-19th/
LOCATION:Dulles Expo Center\, 4320 Chantilly Shopping Center\, Chantilly\, MD\, 20153\, United States
CATEGORIES:Gun Shows
ATTACH;FMTTYPE=image/jpeg:https://huttontacticalarms.com/wp-content/uploads/2023/10/fe252fd9433d2361288bd5f1faa7abbd.jpg
END:VEVENT
BEGIN:VEVENT
DTSTART;TZID=UTC:20231119T100000
DTEND;TZID=UTC:20231119T170000
DTSTAMP:20260424T154412
CREATED:20230513T200357Z
LAST-MODIFIED:20230513T200357Z
UID:3011-1700388000-1700413200@huttontacticalarms.com
SUMMARY:The Nation's Gun Show November 19th
DESCRIPTION:Knowledge \nOur exhibitors have an incredible knowledge base and are able to help customers find what they’re looking for. Our exhibitors can easily answer virtually all questions and concern a consumer may have. That level of variety and knowledge is nearly impossible to find anywhere. \nDiversity \nHandguns\, Shotguns\, Rifles\, Ammo\, Training\, Holsters\, Safes\, Antiques\, Carbines\, Antique Pistols\, Swords\, Knives\, Samurai Swords\, Cartridges\, Early Indian & Western Americana\, Militaria of All Wars\, and Coins. Each engagement benefits from the depth and breadth of our expertise. \n2023 Annual Passes \nActs as a 3-day pass for 4 shows \nA yearly savings of $20 on admission price! \n$80.00
URL:https://huttontacticalarms.com/event/the-nations-gun-show-november-19th/
LOCATION:Dulles Expo Center\, 4320 Chantilly Shopping Center\, Chantilly\, MD\, 20153\, United States
CATEGORIES:Gun Shows
ATTACH;FMTTYPE=image/jpeg:https://huttontacticalarms.com/wp-content/uploads/2023/05/gun-show-events-copy.jpg
END:VEVENT
END:VCALENDAR