BEGIN:VCALENDAR
VERSION:2.0
PRODID:-//Hutton Tactical Arms &amp; Ammo, LLC - ECPv6.15.20//NONSGML v1.0//EN
CALSCALE:GREGORIAN
METHOD:PUBLISH
X-WR-CALNAME:Hutton Tactical Arms &amp; Ammo, LLC
X-ORIGINAL-URL:https://huttontacticalarms.com
X-WR-CALDESC:Events for Hutton Tactical Arms &amp; Ammo, LLC
REFRESH-INTERVAL;VALUE=DURATION:PT1H
X-Robots-Tag:noindex
X-PUBLISHED-TTL:PT1H
BEGIN:VTIMEZONE
TZID:UTC
BEGIN:STANDARD
TZOFFSETFROM:+0000
TZOFFSETTO:+0000
TZNAME:UTC
DTSTART:20220101T000000
END:STANDARD
END:VTIMEZONE
BEGIN:VEVENT
DTSTART;TZID=UTC:20230929T150000
DTEND;TZID=UTC:20230929T200000
DTSTAMP:20260424T185123
CREATED:20230513T172012Z
LAST-MODIFIED:20230513T172012Z
UID:3000-1695999600-1696017600@huttontacticalarms.com
SUMMARY:The Nation's Gun Show September 29th
DESCRIPTION:Knowledge \nOur exhibitors have an incredible knowledge base and are able to help customers find what they’re looking for. Our exhibitors can easily answer virtually all questions and concern a consumer may have. That level of variety and knowledge is nearly impossible to find anywhere. \nDiversity \nHandguns\, Shotguns\, Rifles\, Ammo\, Training\, Holsters\, Safes\, Antiques\, Carbines\, Antique Pistols\, Swords\, Knives\, Samurai Swords\, Cartridges\, Early Indian & Western Americana\, Militaria of All Wars\, and Coins. Each engagement benefits from the depth and breadth of our expertise. \n2023 Annual Passes \nActs as a 3-day pass for 4 shows \nA yearly savings of $20 on admission price! \n$80.00
URL:https://huttontacticalarms.com/event/the-nations-gun-show-september-29th/
LOCATION:Dulles Expo Center\, 4320 Chantilly Shopping Center\, Chantilly\, MD\, 20153\, United States
CATEGORIES:Gun Shows
ATTACH;FMTTYPE=image/jpeg:https://huttontacticalarms.com/wp-content/uploads/2023/05/gun-show-events-copy.jpg
END:VEVENT
BEGIN:VEVENT
DTSTART;TZID=UTC:20230930T090000
DTEND;TZID=UTC:20230930T170000
DTSTAMP:20260424T185123
CREATED:20230513T172939Z
LAST-MODIFIED:20230513T172939Z
UID:3002-1696064400-1696093200@huttontacticalarms.com
SUMMARY:The Nation's Gun Show September 30th
DESCRIPTION:Knowledge \nOur exhibitors have an incredible knowledge base and are able to help customers find what they’re looking for. Our exhibitors can easily answer virtually all questions and concern a consumer may have. That level of variety and knowledge is nearly impossible to find anywhere. \nDiversity \nHandguns\, Shotguns\, Rifles\, Ammo\, Training\, Holsters\, Safes\, Antiques\, Carbines\, Antique Pistols\, Swords\, Knives\, Samurai Swords\, Cartridges\, Early Indian & Western Americana\, Militaria of All Wars\, and Coins. Each engagement benefits from the depth and breadth of our expertise. \n2023 Annual Passes \nActs as a 3-day pass for 4 shows \nA yearly savings of $20 on admission price! \n$80.00
URL:https://huttontacticalarms.com/event/the-nations-gun-show-september-30th/
LOCATION:Dulles Expo Center\, 4320 Chantilly Shopping Center\, Chantilly\, MD\, 20153\, United States
CATEGORIES:Gun Shows
ATTACH;FMTTYPE=image/jpeg:https://huttontacticalarms.com/wp-content/uploads/2023/05/gun-show-events-copy.jpg
END:VEVENT
END:VCALENDAR